BEGIN:VCALENDAR
VERSION:2.0
PRODID:-//ChamberMaster//Event Calendar 2.0//EN
METHOD:PUBLISH
X-PUBLISHED-TTL:P3D
REFRESH-INTERVAL:P3D
CALSCALE:GREGORIAN
BEGIN:VEVENT
DTSTART:20260418T140000Z
DTEND:20260418T210000Z
X-MICROSOFT-CDO-ALLDAYEVENT:FALSE
SUMMARY:SpringFest Street Fair in Downtown Tarboro
DESCRIPTION:
X-ALT-DESC;FMTTYPE=text/html:
LOCATION:
UID:e.480.11662
SEQUENCE:3
DTSTAMP:20260424T114653Z
URL:https://chamber.tarborochamber.com/events/details/springfest-street-fair-in-downtown-tarboro-11662
END:VEVENT

END:VCALENDAR
