BEGIN:VCALENDAR
VERSION:2.0
PRODID:-//ChamberMaster//Event Calendar 2.0//EN
METHOD:PUBLISH
X-PUBLISHED-TTL:P3D
REFRESH-INTERVAL:P3D
CALSCALE:GREGORIAN
BEGIN:VEVENT
DTSTART:20260423T233000Z
DTEND:20260424T003000Z
X-MICROSOFT-CDO-ALLDAYEVENT:FALSE
SUMMARY:Om Prana Sound Meditation at Oak Grove Retreat
DESCRIPTION:
X-ALT-DESC;FMTTYPE=text/html:
LOCATION:
UID:e.480.11709
SEQUENCE:3
DTSTAMP:20260424T010958Z
URL:https://chamber.tarborochamber.com/events/details/om-prana-sound-meditation-at-oak-grove-retreat-11709
END:VEVENT

END:VCALENDAR
